View In:
ArcMap
ArcGIS Explorer
ArcGIS JavaScript
Google Earth
ArcGIS.com Map
View Footprint In:
Google Earth
Service Description:
Map Name: Layers
Legend
All Layers and Tables
Layers:
Tables:
Description:
Copyright Text:
Spatial Reference: PROJCS["HTRS96_Croatia_TM",GEOGCS["GCS_HTRS96",DATUM["D_unknown",SPHEROID["GRS_1980",6378137.0,298.257222101]],PRIMEM["Greenwich",0.0],UNIT["Degree",0.0174532925199433]],PROJECTION["Transverse_Mercator"],PARAMETER["false_easting",500000.0],PARAMETER["false_northing",0.0],PARAMETER["central_meridian",16.5],PARAMETER["scale_factor",0.9999],PARAMETER["latitude_of_origin",0.0],UNIT["Meter",1.0]]
Single Fused Map Cache: true
Tile Info:
- Height: 256
- Width: 256
- DPI: 96
- Levels of Detail: (# Levels: 17)
-
Level ID: 0
[Start Tile,
End Tile]
Resolution: 156543,033928
Scale: 591657527,591555
-
Level ID: 1
[Start Tile,
End Tile]
Resolution: 78271,5169639999
Scale: 295828763,795777
-
Level ID: 2
[Start Tile,
End Tile]
Resolution: 39135,7584820001
Scale: 147914381,897889
-
Level ID: 3
[Start Tile,
End Tile]
Resolution: 19567,8792409999
Scale: 73957190,948944
-
Level ID: 4
[Start Tile,
End Tile]
Resolution: 9783,93962049996
Scale: 36978595,474472
-
Level ID: 5
[Start Tile,
End Tile]
Resolution: 4891,96981024998
Scale: 18489297,737236
-
Level ID: 6
[Start Tile,
End Tile]
Resolution: 2445,98490512499
Scale: 9244648,868618
-
Level ID: 7
[Start Tile,
End Tile]
Resolution: 1222,99245256249
Scale: 4622324,434309
-
Level ID: 8
[Start Tile,
End Tile]
Resolution: 611,49622628138
Scale: 2311162,217155
-
Level ID: 9
[Start Tile,
End Tile]
Resolution: 305,748113140558
Scale: 1155581,108577
-
Level ID: 10
[Start Tile,
End Tile]
Resolution: 152,874056570411
Scale: 577790,554289
-
Level ID: 11
[Start Tile,
End Tile]
Resolution: 76,4370282850732
Scale: 288895,277144
-
Level ID: 12
[Start Tile,
End Tile]
Resolution: 38,2185141425366
Scale: 144447,638572
-
Level ID: 13
[Start Tile,
End Tile]
Resolution: 19,1092570712683
Scale: 72223,819286
-
Level ID: 14
[Start Tile,
End Tile]
Resolution: 9,55462853563415
Scale: 36111,909643
-
Level ID: 15
[Start Tile,
End Tile]
Resolution: 4,77731426794937
Scale: 18055,954822
-
Level ID: 16
[Start Tile,
End Tile]
Resolution: 2,38865713397468
Scale: 9027,977411
- Format: PNG24
- Compression Quality: 0
-
Origin:
X: -20037508,342787
Y: 20037508,342787
- Spatial Reference: PROJCS["HTRS96_Croatia_TM",GEOGCS["GCS_HTRS96",DATUM["D_unknown",SPHEROID["GRS_1980",6378137.0,298.257222101]],PRIMEM["Greenwich",0.0],UNIT["Degree",0.0174532925199433]],PROJECTION["Transverse_Mercator"],PARAMETER["false_easting",500000.0],PARAMETER["false_northing",0.0],PARAMETER["central_meridian",16.5],PARAMETER["scale_factor",0.9999],PARAMETER["latitude_of_origin",0.0],UNIT["Meter",1.0]]
Initial Extent:
XMin: 373655.646604742
YMin: 5008279.41338142
XMax: 563988.949350932
YMax: 5121394.72763221
Spatial Reference: PROJCS["HTRS96_Croatia_TM",GEOGCS["GCS_HTRS96",DATUM["D_unknown",SPHEROID["GRS_1980",6378137.0,298.257222101]],PRIMEM["Greenwich",0.0],UNIT["Degree",0.0174532925199433]],PROJECTION["Transverse_Mercator"],PARAMETER["false_easting",500000.0],PARAMETER["false_northing",0.0],PARAMETER["central_meridian",16.5],PARAMETER["scale_factor",0.9999],PARAMETER["latitude_of_origin",0.0],UNIT["Meter",1.0]]
Full Extent:
XMin: 408797.713078533
YMin: 5036429.11487305
XMax: 516708.938197262
YMax: 5103575.19182558
Spatial Reference: PROJCS["HTRS96_Croatia_TM",GEOGCS["GCS_HTRS96",DATUM["D_unknown",SPHEROID["GRS_1980",6378137.0,298.257222101]],PRIMEM["Greenwich",0.0],UNIT["Degree",0.0174532925199433]],PROJECTION["Transverse_Mercator"],PARAMETER["false_easting",500000.0],PARAMETER["false_northing",0.0],PARAMETER["central_meridian",16.5],PARAMETER["scale_factor",0.9999],PARAMETER["latitude_of_origin",0.0],UNIT["Meter",1.0]]
Units: esriMeters
Supported Image Format Types: PNG32,PNG24,PNG,JPG,DIB,TIFF,EMF,PS,PDF,GIF,SVG,SVGZ,BMP
Document Info:
- Title:
- Author:
- Comments:
- Subject:
- Category:
- Keywords:
- AntialiasingMode: None
- TextAntialiasingMode: Force
Supported Interfaces:
REST
SOAP
Supported Operations:
Export Map
Identify
Find